Workbook

Sheet TKA
A1: TKA - 2011 MPB Update
A2: Area (ha) of MPB Attack Severity by Age Class and Density within Pine Stands (Pine Species >= 30% density - The Pine Mask)
A3: TSA Area | B3: 2769476.2
A4: Pine Mask Unharvested Area | B4: =SUM(data!D2:D200) -> 474401.33
A6: MPB Attack as a percentage of Pine affected within the VRI Stand
A8: MPB Attack Severity
C9: Light (<11%) | E9: Moderate (11-30%) | G9: Severe (31-50%) | I9: Very Severe (>50%) | K9: All Severity | M9: No Attack
A10: Age Class | B10: Pine Density | C10: Area (ha) | D10: Percent of all Pine (Pine Mask) | E10: Area (ha) | F10: Percent of all Pine (Pine Mask) | G10: Area (ha) | H10: Percent of all Pine (Pine Mask) | I10: Area (ha) | J10: Percent of all Pine (Pine Mask) | K10: Total Area of Attack (ha) | L10: Percent of all Pine (Pine Mask) | M10: Area (ha) | N10: Percent of all Pine (Pine Mask)
A11: 21-40 years | B11: 30-70% | C11: {=SUM(IF(data!A2:A200="21-40 years",IF(data!B2:B200="30-70%",IF(data!C2:C200="Light (<11%)",data!D2:D200,0),0),0))} -> 2359.8311 | D11: =C11/($K$20+$M$20) -> 0.0052675093 | E11: {=SUM(IF(data!A2:A200="21-40 years",IF(data!B2:B200="30-70%",IF(data!C2:C200="Moderate (11-30%)",data!D2:D200,0),0),0))} -> 2977.093 | F11: =E11/($K$20+$M$20) -> 0.0066453337 | G11: {=SUM(IF(data!A2:A200="21-40 years",IF(data!B2:B200="30-70%",IF(data!C2:C200="Severe (31-50%)",data!D2:D200,0),0),0))} -> 2203.663 | H11: =G11/($K$20+$M$20) -> 0.0049189179 | I11: {=SUM(IF(data!A2:A200="21-40 years",IF(data!B2:B200="30-70%",IF(data!C2:C200="Very Severe (>50%)",data!D2:D200,0),0),0))} -> 6145.252 | J11: =I11/($K$20+$M$20) -> 0.013717156 | K11: =SUM(C11,E11,G11,I11) -> 13685.839 | L11: =K11/($K$20+$M$20) -> 0.030548917 | M11: {=SUM(IF(data!A2:A200="21-40 years",IF(data!B2:B200="30-70%",IF(data!C2:C200="No Attack",data!D2:D200,0),0),0))} -> 3685.4794 | N11: =M11/($K$20+$M$20) -> 0.0082265621
B12: >70% | C12: {=SUM(IF(data!A2:A200="21-40 years",IF(data!B2:B200=">70%",IF(data!C2:C200="Light (<11%)",data!D2:D200,0),0),0))} -> 3479.3239 | D12: =C12/($K$20+$M$20) -> 0.0077663909 | E12: {=SUM(IF(data!A2:A200="21-40 years",IF(data!B2:B200=">70%",IF(data!C2:C200="Moderate (11-30%)",data!D2:D200,0),0),0))} -> 3361.215 | F12: =E12/($K$20+$M$20) -> 0.0075027535 | G12: {=SUM(IF(data!A2:A200="21-40 years",IF(data!B2:B200=">70%",IF(data!C2:C200="Severe (31-50%)",data!D2:D200,0),0),0))} -> 3365.362 | H12: =G12/($K$20+$M$20) -> 0.0075120103 | I12: {=SUM(IF(data!A2:A200="21-40 years",IF(data!B2:B200=">70%",IF(data!C2:C200="Very Severe (>50%)",data!D2:D200,0),0),0))} -> 10240.829 | J12: =I12/($K$20+$M$20) -> 0.02285912 | K12: =SUM(C12,E12,G12,I12) -> 20446.73 | L12: =K12/($K$20+$M$20) -> 0.045640275 | M12: {=SUM(IF(data!A2:A200="21-40 years",IF(data!B2:B200=">70%",IF(data!C2:C200="No Attack",data!D2:D200,0),0),0))} -> 3678.0426 | N12: =M12/($K$20+$M$20) -> 0.008209962
A14: 41-60 years | B14: 30-70% | C14: {=SUM(IF(data!A2:A200="41-60 years",IF(data!B2:B200="30-70%",IF(data!C2:C200="Light (<11%)",data!D2:D200,0),0),0))} -> 525.46194 | D14: =C14/($K$20+$M$20) -> 0.0011729126 | E14: {=SUM(IF(data!A2:A200="41-60 years",IF(data!B2:B200="30-70%",IF(data!C2:C200="Moderate (11-30%)",data!D2:D200,0),0),0))} -> 697.69547 | F14: =E14/($K$20+$M$20) -> 0.0015573646 | G14: {=SUM(IF(data!A2:A200="41-60 years",IF(data!B2:B200="30-70%",IF(data!C2:C200="Severe (31-50%)",data!D2:D200,0),0),0))} -> 1146.8315 | H14: =G14/($K$20+$M$20) -> 0.0025599059 | I14: {=SUM(IF(data!A2:A200="41-60 years",IF(data!B2:B200="30-70%",IF(data!C2:C200="Very Severe (>50%)",data!D2:D200,0),0),0))} -> 2394.2864 | J14: =I14/($K$20+$M$20) -> 0.005344419 | K14: =SUM(C14,E14,G14,I14) -> 4764.2754 | L14: =K14/($K$20+$M$20) -> 0.010634602 | M14: {=SUM(IF(data!A2:A200="41-60 years",IF(data!B2:B200="30-70%",IF(data!C2:C200="No Attack",data!D2:D200,0),0),0))} -> 1171.3969 | N14: =M14/($K$20+$M$20) -> 0.0026147398
B15: >70% | C15: {=SUM(IF(data!A2:A200="41-60 years",IF(data!B2:B200=">70%",IF(data!C2:C200="Light (<11%)",data!D2:D200,0),0),0))} -> 219.10959 | D15: =C15/($K$20+$M$20) -> 0.00048908661 | E15: {=SUM(IF(data!A2:A200="41-60 years",IF(data!B2:B200=">70%",IF(data!C2:C200="Moderate (11-30%)",data!D2:D200,0),0),0))} -> 288.54025 | F15: =E15/($K$20+$M$20) -> 0.00064406662 | G15: {=SUM(IF(data!A2:A200="41-60 years",IF(data!B2:B200=">70%",IF(data!C2:C200="Severe (31-50%)",data!D2:D200,0),0),0))} -> 271.24552 | H15: =G15/($K$20+$M$20) -> 0.00060546211 | I15: {=SUM(IF(data!A2:A200="41-60 years",IF(data!B2:B200=">70%",IF(data!C2:C200="Very Severe (>50%)",data!D2:D200,0),0),0))} -> 6171.6601 | J15: =I15/($K$20+$M$20) -> 0.013776103 | K15: =SUM(C15,E15,G15,I15) -> 6950.5555 | L15: =K15/($K$20+$M$20) -> 0.015514719 | M15: {=SUM(IF(data!A2:A200="41-60 years",IF(data!B2:B200=">70%",IF(data!C2:C200="No Attack",data!D2:D200,0),0),0))} -> 285.26962 | N15: =M15/($K$20+$M$20) -> 0.00063676608
A17: >60 years | B17: 30-70% | C17: {=SUM(IF(data!A2:A200=">60 years",IF(data!B2:B200="30-70%",IF(data!C2:C200="Light (<11%)",data!D2:D200,0),0),0))} -> 16833.402 | D17: =C17/($K$20+$M$20) -> 0.037574765 | E17: {=SUM(IF(data!A2:A200=">60 years",IF(data!B2:B200="30-70%",IF(data!C2:C200="Moderate (11-30%)",data!D2:D200,0),0),0))} -> 18131.705 | F17: =E17/($K$20+$M$20) -> 0.04047278 | G17: {=SUM(IF(data!A2:A200=">60 years",IF(data!B2:B200="30-70%",IF(data!C2:C200="Severe (31-50%)",data!D2:D200,0),0),0))} -> 26013.274 | H17: =G17/($K$20+$M$20) -> 0.058065665 | I17: {=SUM(IF(data!A2:A200=">60 years",IF(data!B2:B200="30-70%",IF(data!C2:C200="Very Severe (>50%)",data!D2:D200,0),0),0))} -> 120031.52 | J17: =I17/($K$20+$M$20) -> 0.26792897 | K17: =SUM(C17,E17,G17,I17) -> 181009.9 | L17: =K17/($K$20+$M$20) -> 0.40404218 | M17: {=SUM(IF(data!A2:A200=">60 years",IF(data!B2:B200="30-70%",IF(data!C2:C200="No Attack",data!D2:D200,0),0),0))} -> 24671.416 | N17: =M17/($K$20+$M$20) -> 0.055070429
B18: >70% | C18: {=SUM(IF(data!A2:A200=">60 years",IF(data!B2:B200=">70%",IF(data!C2:C200="Light (<11%)",data!D2:D200,0),0),0))} -> 8761.268 | D18: =C18/($K$20+$M$20) -> 0.01955651 | E18: {=SUM(IF(data!A2:A200=">60 years",IF(data!B2:B200=">70%",IF(data!C2:C200="Moderate (11-30%)",data!D2:D200,0),0),0))} -> 10377.839 | F18: =E18/($K$20+$M$20) -> 0.023164947 | G18: {=SUM(IF(data!A2:A200=">60 years",IF(data!B2:B200=">70%",IF(data!C2:C200="Severe (31-50%)",data!D2:D200,0),0),0))} -> 13566.515 | H18: =G18/($K$20+$M$20) -> 0.030282566 | I18: {=SUM(IF(data!A2:A200=">60 years",IF(data!B2:B200=">70%",IF(data!C2:C200="Very Severe (>50%)",data!D2:D200,0),0),0))} -> 146676.8 | J18: =I18/($K$20+$M$20) -> 0.32740538 | K18: =SUM(C18,E18,G18,I18) -> 179382.42 | L18: =K18/($K$20+$M$20) -> 0.40040941 | M18: {=SUM(IF(data!A2:A200=">60 years",IF(data!B2:B200=">70%",IF(data!C2:C200="No Attack",data!D2:D200,0),0),0))} -> 8266.1976 | N18: =M18/($K$20+$M$20) -> 0.018451436
A20: Total | C20: =SUM(C11:C18) -> 32178.396 | D20: =C20/($K$20+$M$20) -> 0.071827175 | E20: =SUM(E11:E18) -> 35834.088 | F20: =E20/($K$20+$M$20) -> 0.079987245 | G20: =SUM(G11:G18) -> 46566.891 | H20: =G20/($K$20+$M$20) -> 0.10394453 | I20: =SUM(I11:I18) -> 291660.34 | J20: =I20/($K$20+$M$20) -> 0.65103116 | K20: =SUM(K11:K18) -> 406239.72 | L20: =SUM(L11:L18) -> 0.9067901 | M20: =SUM(M11:M18) -> 41757.802 | N20: =SUM(N11:N18) -> 0.093209895

Sheet data
A1: Age Class | B1: Pine Density | C1: MPB Attack Severity | D1: Sum Of area_ha
A2: <21 years | B2: >70% | C2: Light (<11%) | D2: 248.28969
A3: <21 years | B3: >70% | C3: Light (<11%) | D3: 2949.743
A4: <21 years | B4: >70% | C4: Moderate (11-30%) | D4: 351.95621
A5: <21 years | B5: >70% | C5: Moderate (11-30%) | D5: 3199.268
A6: <21 years | B6: >70% | C6: No Attack | D6: 2030.1858
A7: <21 years | B7: >70% | C7: No Attack | D7: 80.89189
A8: <21 years | B8: >70% | C8: No Attack | D8: 596.57601
A9: <21 years | B9: >70% | C9: Severe (31-50%) | D9: 457.61181
A10: <21 years | B10: >70% | C10: Severe (31-50%) | D10: 1041.9415
A11: <21 years | B11: >70% | C11: Very Severe (>50%) | D11: 808.82623
A12: <21 years | B12: >70% | C12: Very Severe (>50%) | D12: 2058.6136
A13: <21 years | B13: 30-70% | C13: Light (<11%) | D13: 205.69932
... A110: 41-60 years | B110: 30-70% | C110: Very Severe (>50%) | D110: 6.0321444

Sheet Sheet3
